BEGIN:VCALENDAR
VERSION:2.0
PRODID:-//Community Mortgage, Inc. - ECPv6.6.1//NONSGML v1.0//EN
CALSCALE:GREGORIAN
METHOD:PUBLISH
X-ORIGINAL-URL:https://calcommunitymortgage.com
X-WR-CALDESC:Events for Community Mortgage, Inc.
REFRESH-INTERVAL;VALUE=DURATION:PT1H
X-Robots-Tag:noindex
X-PUBLISHED-TTL:PT1H
BEGIN:VTIMEZONE
TZID:UTC
BEGIN:STANDARD
TZOFFSETFROM:+0000
TZOFFSETTO:+0000
TZNAME:UTC
DTSTART:20220101T000000
END:STANDARD
END:VTIMEZONE
BEGIN:VEVENT
DTSTART;TZID=UTC:20221012T173000
DTEND;TZID=UTC:20221012T183000
DTSTAMP:20260423T235347
CREATED:20221007T002335Z
LAST-MODIFIED:20221007T002515Z
UID:2725-1665595800-1665599400@calcommunitymortgage.com
SUMMARY:How To Buy A Home In Today's Market
DESCRIPTION:
URL:https://calcommunitymortgage.com/event/2725/
LOCATION:Cafe X\, 1835 Imperial Ave\, San Diego\, CA\, 92102\, United States
ORGANIZER;CN="Community Mortgage - Community Mortgage":MAILTO:jaylin@calcommunitymortgage.com
END:VEVENT
END:VCALENDAR