BEGIN:VCALENDAR
VERSION:2.0
PRODID:-//Community Mortgage, Inc. - ECPv6.6.1//NONSGML v1.0//EN
CALSCALE:GREGORIAN
METHOD:PUBLISH
X-ORIGINAL-URL:https://calcommunitymortgage.com
X-WR-CALDESC:Events for Community Mortgage, Inc.
REFRESH-INTERVAL;VALUE=DURATION:PT1H
X-Robots-Tag:noindex
X-PUBLISHED-TTL:PT1H
BEGIN:VTIMEZONE
TZID:UTC
BEGIN:STANDARD
TZOFFSETFROM:+0000
TZOFFSETTO:+0000
TZNAME:UTC
DTSTART:20230101T000000
END:STANDARD
END:VTIMEZONE
BEGIN:VEVENT
DTSTART;TZID=UTC:20230426T120000
DTEND;TZID=UTC:20230426T131500
DTSTAMP:20260423T222034
CREATED:20230413T215040Z
LAST-MODIFIED:20230413T215416Z
UID:2855-1682510400-1682514900@calcommunitymortgage.com
SUMMARY:Home Seller Workshop
DESCRIPTION:Learn how to get the highest price for your home at the Home Seller Workshop. Meet the experts and get your questions answered about: \n\nStaging (Autumn Millhouse)\nInspections (Natasha Thompson)\nAppraisals (Tom McFarlin)\n\nBe ready for the upcoming market to get the highest price for your home! Register now!
URL:https://calcommunitymortgage.com/event/home-seller-workshop/
LOCATION:online
ORGANIZER;CN="Karen DeGasperis":MAILTO:Karen@HomeOptionsSD.com
END:VEVENT
BEGIN:VEVENT
DTSTART;TZID=UTC:20230426T160000
DTEND;TZID=UTC:20230426T180000
DTSTAMP:20260423T222034
CREATED:20230420T225042Z
LAST-MODIFIED:20230420T225147Z
UID:2860-1682524800-1682532000@calcommunitymortgage.com
SUMMARY:Power Wellness Workshop
DESCRIPTION:Power Wellness Workshop\, Get efficient\, effective\, easy tools to banish stress\, overwhelm\, and fatigue.
URL:https://calcommunitymortgage.com/event/power-wellness-workshop/
LOCATION:Zoom
END:VEVENT
BEGIN:VEVENT
DTSTART;TZID=UTC:20230503T173000
DTEND;TZID=UTC:20230503T183000
DTSTAMP:20260423T222034
CREATED:20230411T222635Z
LAST-MODIFIED:20230413T184228Z
UID:2835-1683135000-1683138600@calcommunitymortgage.com
SUMMARY:Myths About The Current Housing Market with Nicole Del Priore
DESCRIPTION:Myths About The Current Housing Market \nSean Courtney and Nicole Del Priore cover everything you need to know in this Real Estate Seminar. Join us while they cover major topics like \n\nHow is this market different from 2008?\nMyths About The Current Housing Market: Let’s talk about the facts\nWill there be a crash?\nWhat is a Micro-market?\nWhat makes San Diego a unique market?\nWill there be a recession?\nIs it a tough market? Yes. Is home buying possible? Also yes.\nIs there a perfect time to buy?\n\nDate: May 3rd\nTime: 5:30 pm\nLocation: Bankers Hill\, 2250 Fourth Ave #100\, San Diego\, CA 92101 \nNicole Del Priore\, REALTOR® | DRE  #02038593\nKeller Williams SD Metro | DRE  #01295699\nnicole@nicoledelsells.com\nnicoledelsells.com\n619.708.4530
URL:https://calcommunitymortgage.com/event/myths-about-the-current-housing-market-with-nicole-del-priore/
LOCATION:2250 Fourth Ave #100\, San Diego\, CA 92101\, 2250 Fourth Ave #100\,\, San Diego\, California\, 92101
ORGANIZER;CN="Community Mortgage %E2%80%93 Community Mortgage":MAILTO:sean@calcommunitymortgage.com
END:VEVENT
BEGIN:VEVENT
DTSTART;TZID=UTC:20230524T120000
DTEND;TZID=UTC:20230524T130000
DTSTAMP:20260423T222034
CREATED:20230420T230653Z
LAST-MODIFIED:20230626T192506Z
UID:2866-1684929600-1684933200@calcommunitymortgage.com
SUMMARY:Mid-week Munch & Meet
DESCRIPTION:Join us to learn about wines of the region\, networking and meet other business owners. \nWeds May 24th.LaCosta Wine 7750 El Camino Real\, Carlsbad\, CA 92009
URL:https://calcommunitymortgage.com/event/mid-week-munch-meet/
END:VEVENT
BEGIN:VEVENT
DTSTART;TZID=UTC:20240217T080000
DTEND;TZID=UTC:20240218T170000
DTSTAMP:20260423T222034
CREATED:20240201T180429Z
LAST-MODIFIED:20240202T202730Z
UID:2988-1708156800-1708275600@calcommunitymortgage.com
SUMMARY:THE PENTHOUSE MASTERMIND SAN DIEGO
DESCRIPTION:About this event\nAdd more details about your event and include what people can expect if they attend. \n\n\n\n\n\n\n\n\n\n\n\nNormal\n\n\n  \n\n  \n\n\n\nTICKET DETAILS\nThe Penthouse Mastermind Immersion \n\n1 Ticket to the Penthouse Mastermind held in San Diego\, CA on February 17th-18th\, 2024\nAccess to an immersive weekend of learning from World-Class Entrepreneurs & Speakers\nLight networking with high-quality connections in the San Diego area\nCoffee\, light snacks & lunch provided\nPENTHOUSE BONUS: JOIN US ON THE PENTHOUSE TERRACE DURING AND AFTER THE EVENT\nPENTHOUSE BONUS: MIX & MINGLE 1-ON-1 WITH JIM LUTES\, SPEAKERS & VIP GUESTS\nPENTHOUSE BONUS: FILM CONTENT\, TAKE PHOTOS AND PROMOTE YOURSELF AS A VIP ATTENDEE AT THE PENTHOUSE MASTERMIND\nPENTHOUSE BONUS: ENJOY A STUNNING VIEW FROM THE TERRACE OVERLOOKING THE OCEAN\, THE CITY\, THE BAY\, THE BOATS & MEXICO.\nPENTHOUSE BONUS: RECEIVE A SIGNED COPY OF ANY BOOK OFFERED BY OUR WORLD-CLASS SPEAKERS\nPENTHOUSE BONUS: 1:1 PHOTOS WITH SPEAKERS TO BE SHARED ON SOCIAL MEDIA WITH YOUR NAME + THEIRS\n\nWHAT TO EXPECT\nAt The Penthouse Mastermind 2-Day Immersion You Will: \n– Create total subconscious alignment within yourself experiencing the most powerful techniques in the world. \nLet go of the blocks.\nReprogram for Success in\nRelationships\, Finances\, Emotions\, and Business\n– Learn from multi-million dollar entrepreneurs how to leverage growth in all areas \n– Connect with those that are connected at an accelerated level \n– Have access to elite strategies that accelerate you to incredible new heights \n– Create ongoing connections and network with like-minded leaders \n– Have access to film content and share your experience from beautiful\, high-rise penthouse\noverlooking the San Diego Bay and Mexico \n\n\n\n\n\n\nSuggest description\n\n\n\n\n\n\n  \n\n\n\n\n\n\n\n\n\n\n\n\n\n\n\n\n\n\n\n\n\n\n\n\n\n\n\n\n\n\n\n\n  \n  \n 
URL:https://calcommunitymortgage.com/event/the-penthouse-mastermind-san-diego/
ATTACH;FMTTYPE=image/jpeg:https://calcommunitymortgage.com/wp-content/uploads/2024/02/Penthouse-mastermind.jpg
END:VEVENT
END:VCALENDAR