BEGIN:VCALENDAR
VERSION:2.0
PRODID:-//Community Mortgage, Inc. - ECPv6.6.1//NONSGML v1.0//EN
CALSCALE:GREGORIAN
METHOD:PUBLISH
X-WR-CALNAME:Community Mortgage, Inc.
X-ORIGINAL-URL:https://calcommunitymortgage.com
X-WR-CALDESC:Events for Community Mortgage, Inc.
REFRESH-INTERVAL;VALUE=DURATION:PT1H
X-Robots-Tag:noindex
X-PUBLISHED-TTL:PT1H
BEGIN:VTIMEZONE
TZID:UTC
BEGIN:STANDARD
TZOFFSETFROM:+0000
TZOFFSETTO:+0000
TZNAME:UTC
DTSTART:20230101T000000
END:STANDARD
END:VTIMEZONE
BEGIN:VEVENT
DTSTART;TZID=UTC:20230118T173000
DTEND;TZID=UTC:20230118T183000
DTSTAMP:20260423T202214
CREATED:20230116T231316Z
LAST-MODIFIED:20230116T231316Z
UID:2779-1674063000-1674066600@calcommunitymortgage.com
SUMMARY:How to fix your credit
DESCRIPTION:If you are contemplating buying a home\, your credit plays a vital role. Join our “How to fix your credit” seminar to learn about your credit score and how to improve it. Secure your spot by registering now!
URL:https://calcommunitymortgage.com/event/how-to-fix-your-credit/
LOCATION:Cafe X\, 1835 Imperial Ave\, San Diego\, CA\, 92102\, United States
ORGANIZER;CN="Community Mortgage - Community Mortgage":MAILTO:jaylin@calcommunitymortgage.com
END:VEVENT
END:VCALENDAR