BEGIN:VCALENDAR
VERSION:2.0
PRODID:-//Community Mortgage, Inc. - ECPv6.6.1//NONSGML v1.0//EN
CALSCALE:GREGORIAN
METHOD:PUBLISH
X-ORIGINAL-URL:https://calcommunitymortgage.com
X-WR-CALDESC:Events for Community Mortgage, Inc.
REFRESH-INTERVAL;VALUE=DURATION:PT1H
X-Robots-Tag:noindex
X-PUBLISHED-TTL:PT1H
BEGIN:VTIMEZONE
TZID:UTC
BEGIN:STANDARD
TZOFFSETFROM:+0000
TZOFFSETTO:+0000
TZNAME:UTC
DTSTART:20220101T000000
END:STANDARD
END:VTIMEZONE
BEGIN:VEVENT
DTSTART;TZID=UTC:20221203T100000
DTEND;TZID=UTC:20221203T110000
DTSTAMP:20260423T221539
CREATED:20221121T225233Z
LAST-MODIFIED:20221122T002151Z
UID:2755-1670061600-1670065200@calcommunitymortgage.com
SUMMARY:Advantages to putting your home in a trust
DESCRIPTION:SHOULD YOUR HOME BE IN TRUST? Attorney Ashley E. Teague\, a Certified Specialist in Estate Planning\, Trust & Probate Law\, will discuss why most homeowners in California should have a trust\, whether they know it or not\, and will explain why. Attorney Teague will provide insight and education regarding trusts\, estate planning\, and why avoiding probate in California is incredibly important for homeowners. \n 
URL:https://calcommunitymortgage.com/event/advantages-to-putting-your-home-in-a-trust/
LOCATION:Zoom
END:VEVENT
END:VCALENDAR